BEGIN:VCALENDAR
VERSION:2.0
PRODID:-//Die Nachtwächterin - ECPv6.15.20//NONSGML v1.0//EN
CALSCALE:GREGORIAN
METHOD:PUBLISH
X-ORIGINAL-URL:https://nachtwaechterin.com
X-WR-CALDESC:Veranstaltungen für Die Nachtwächterin
REFRESH-INTERVAL;VALUE=DURATION:PT1H
X-Robots-Tag:noindex
X-PUBLISHED-TTL:PT1H
BEGIN:VTIMEZONE
TZID:Europe/Berlin
BEGIN:DAYLIGHT
TZOFFSETFROM:+0100
TZOFFSETTO:+0200
TZNAME:CEST
DTSTART:20250330T010000
END:DAYLIGHT
BEGIN:STANDARD
TZOFFSETFROM:+0200
TZOFFSETTO:+0100
TZNAME:CET
DTSTART:20251026T010000
END:STANDARD
BEGIN:DAYLIGHT
TZOFFSETFROM:+0100
TZOFFSETTO:+0200
TZNAME:CEST
DTSTART:20260329T010000
END:DAYLIGHT
BEGIN:STANDARD
TZOFFSETFROM:+0200
TZOFFSETTO:+0100
TZNAME:CET
DTSTART:20261025T010000
END:STANDARD
BEGIN:DAYLIGHT
TZOFFSETFROM:+0100
TZOFFSETTO:+0200
TZNAME:CEST
DTSTART:20270328T010000
END:DAYLIGHT
BEGIN:STANDARD
TZOFFSETFROM:+0200
TZOFFSETTO:+0100
TZNAME:CET
DTSTART:20271031T010000
END:STANDARD
END:VTIMEZONE
BEGIN:VEVENT
DTSTART;TZID=Europe/Berlin:20261204T193000
DTEND;TZID=Europe/Berlin:20261204T210000
DTSTAMP:20260422T123644
CREATED:20260415T130145Z
LAST-MODIFIED:20260415T130145Z
UID:11361-1796412600-1796418000@nachtwaechterin.com
SUMMARY:Nachtwächtertour Nürnberger Allerlei im Advent
DESCRIPTION:Die weihnachtliche Tour\nmit herzigen Geschichten und allerlei Geschichte von Nürnberg und dem Christkindlesmarkt. \nDie Nachtwächterin erzählt vom Werden und Wachsen des “Kindleinsmarktes” u.v.m. \nTauchen Sie ein in die gefühlvolle und schalkhafte Sagenwelt zur Weihnachtszeit. \n>> Tickets \n  \n 
URL:https://nachtwaechterin.com/termin/nachtwaechtertour-nuernberger-allerlei-im-advent-3/
LOCATION:Nürnberg\, Hauptmarkt\, vor der Touristinformation\, Nürnberg\, Bayern\, 90403\, Deutschland
CATEGORIES:Nachtwächter Führungen
ATTACH;FMTTYPE=image/jpeg:https://nachtwaechterin.com/wp-content/uploads/2019/03/20181115_Nbg_Tiergaertnertor.jpg
ORGANIZER;CN="Dr. Ute J%C3%A4ger":MAILTO:kontakt@nachtwaechterin.de
END:VEVENT
BEGIN:VEVENT
DTSTART;TZID=Europe/Berlin:20261205T193000
DTEND;TZID=Europe/Berlin:20261205T210000
DTSTAMP:20260422T123644
CREATED:20260415T130213Z
LAST-MODIFIED:20260415T130213Z
UID:11363-1796499000-1796504400@nachtwaechterin.com
SUMMARY:Nachtwächtertour Nürnberger Allerlei im Advent
DESCRIPTION:Die weihnachtliche Tour\nmit herzigen Geschichten und allerlei Geschichte von Nürnberg und dem Christkindlesmarkt. \nDie Nachtwächterin erzählt vom Werden und Wachsen des “Kindleinsmarktes” u.v.m. \nTauchen Sie ein in die gefühlvolle und schalkhafte Sagenwelt zur Weihnachtszeit. \n>> Tickets \n  \n 
URL:https://nachtwaechterin.com/termin/nachtwaechtertour-nuernberger-allerlei-im-advent-4/
LOCATION:Nürnberg\, Hauptmarkt\, vor der Touristinformation\, Nürnberg\, Bayern\, 90403\, Deutschland
CATEGORIES:Nachtwächter Führungen
ATTACH;FMTTYPE=image/jpeg:https://nachtwaechterin.com/wp-content/uploads/2019/03/20181115_Nbg_Tiergaertnertor.jpg
ORGANIZER;CN="Dr. Ute J%C3%A4ger":MAILTO:kontakt@nachtwaechterin.de
END:VEVENT
BEGIN:VEVENT
DTSTART;TZID=Europe/Berlin:20261211T193000
DTEND;TZID=Europe/Berlin:20261211T210000
DTSTAMP:20260422T123644
CREATED:20260415T130239Z
LAST-MODIFIED:20260415T130253Z
UID:11365-1797017400-1797022800@nachtwaechterin.com
SUMMARY:Nachtwächtertour Nürnberger Allerlei im Advent
DESCRIPTION:Die weihnachtliche Tour\nmit herzigen Geschichten und allerlei Geschichte von Nürnberg und dem Christkindlesmarkt. \nDie Nachtwächterin erzählt vom Werden und Wachsen des “Kindleinsmarktes” u.v.m. \nTauchen Sie ein in die gefühlvolle und schalkhafte Sagenwelt zur Weihnachtszeit. \n>> Tickets \n  \n 
URL:https://nachtwaechterin.com/termin/nachtwaechtertour-nuernberger-allerlei-im-advent-5/
LOCATION:Nürnberg\, Hauptmarkt\, vor der Touristinformation\, Nürnberg\, Bayern\, 90403\, Deutschland
CATEGORIES:Nachtwächter Führungen
ATTACH;FMTTYPE=image/jpeg:https://nachtwaechterin.com/wp-content/uploads/2019/03/20181115_Nbg_Tiergaertnertor.jpg
ORGANIZER;CN="Dr. Ute J%C3%A4ger":MAILTO:kontakt@nachtwaechterin.de
END:VEVENT
BEGIN:VEVENT
DTSTART;TZID=Europe/Berlin:20261212T193000
DTEND;TZID=Europe/Berlin:20261212T210000
DTSTAMP:20260422T123644
CREATED:20260415T130324Z
LAST-MODIFIED:20260415T130324Z
UID:11367-1797103800-1797109200@nachtwaechterin.com
SUMMARY:Nachtwächtertour Nürnberger Allerlei im Advent
DESCRIPTION:Die weihnachtliche Tour\nmit herzigen Geschichten und allerlei Geschichte von Nürnberg und dem Christkindlesmarkt. \nDie Nachtwächterin erzählt vom Werden und Wachsen des “Kindleinsmarktes” u.v.m. \nTauchen Sie ein in die gefühlvolle und schalkhafte Sagenwelt zur Weihnachtszeit. \n>> Tickets \n  \n 
URL:https://nachtwaechterin.com/termin/nachtwaechtertour-nuernberger-allerlei-im-advent-6/
LOCATION:Nürnberg\, Hauptmarkt\, vor der Touristinformation\, Nürnberg\, Bayern\, 90403\, Deutschland
CATEGORIES:Nachtwächter Führungen
ATTACH;FMTTYPE=image/jpeg:https://nachtwaechterin.com/wp-content/uploads/2019/03/20181115_Nbg_Tiergaertnertor.jpg
ORGANIZER;CN="Dr. Ute J%C3%A4ger":MAILTO:kontakt@nachtwaechterin.de
END:VEVENT
BEGIN:VEVENT
DTSTART;TZID=Europe/Berlin:20261218T193000
DTEND;TZID=Europe/Berlin:20261218T210000
DTSTAMP:20260422T123644
CREATED:20260415T130355Z
LAST-MODIFIED:20260415T130355Z
UID:11369-1797622200-1797627600@nachtwaechterin.com
SUMMARY:Nachtwächtertour Nürnberger Allerlei im Advent
DESCRIPTION:Die weihnachtliche Tour\nmit herzigen Geschichten und allerlei Geschichte von Nürnberg und dem Christkindlesmarkt. \nDie Nachtwächterin erzählt vom Werden und Wachsen des “Kindleinsmarktes” u.v.m. \nTauchen Sie ein in die gefühlvolle und schalkhafte Sagenwelt zur Weihnachtszeit. \n>> Tickets \n  \n 
URL:https://nachtwaechterin.com/termin/nachtwaechtertour-nuernberger-allerlei-im-advent-7/
LOCATION:Nürnberg\, Hauptmarkt\, vor der Touristinformation\, Nürnberg\, Bayern\, 90403\, Deutschland
CATEGORIES:Nachtwächter Führungen
ATTACH;FMTTYPE=image/jpeg:https://nachtwaechterin.com/wp-content/uploads/2019/03/20181115_Nbg_Tiergaertnertor.jpg
ORGANIZER;CN="Dr. Ute J%C3%A4ger":MAILTO:kontakt@nachtwaechterin.de
END:VEVENT
BEGIN:VEVENT
DTSTART;TZID=Europe/Berlin:20261219T193000
DTEND;TZID=Europe/Berlin:20261219T210000
DTSTAMP:20260422T123644
CREATED:20260415T130420Z
LAST-MODIFIED:20260415T130420Z
UID:11371-1797708600-1797714000@nachtwaechterin.com
SUMMARY:Nachtwächtertour Nürnberger Allerlei im Advent
DESCRIPTION:Die weihnachtliche Tour\nmit herzigen Geschichten und allerlei Geschichte von Nürnberg und dem Christkindlesmarkt. \nDie Nachtwächterin erzählt vom Werden und Wachsen des “Kindleinsmarktes” u.v.m. \nTauchen Sie ein in die gefühlvolle und schalkhafte Sagenwelt zur Weihnachtszeit. \n>> Tickets \n  \n 
URL:https://nachtwaechterin.com/termin/nachtwaechtertour-nuernberger-allerlei-im-advent-8/
LOCATION:Nürnberg\, Hauptmarkt\, vor der Touristinformation\, Nürnberg\, Bayern\, 90403\, Deutschland
CATEGORIES:Nachtwächter Führungen
ATTACH;FMTTYPE=image/jpeg:https://nachtwaechterin.com/wp-content/uploads/2019/03/20181115_Nbg_Tiergaertnertor.jpg
ORGANIZER;CN="Dr. Ute J%C3%A4ger":MAILTO:kontakt@nachtwaechterin.de
END:VEVENT
END:VCALENDAR