BEGIN:VCALENDAR
VERSION:2.0
PRODID:-//Die Nachtwächterin - ECPv6.15.20//NONSGML v1.0//EN
CALSCALE:GREGORIAN
METHOD:PUBLISH
X-WR-CALNAME:Die Nachtwächterin
X-ORIGINAL-URL:https://nachtwaechterin.com
X-WR-CALDESC:Veranstaltungen für Die Nachtwächterin
REFRESH-INTERVAL;VALUE=DURATION:PT1H
X-Robots-Tag:noindex
X-PUBLISHED-TTL:PT1H
BEGIN:VTIMEZONE
TZID:Europe/Berlin
BEGIN:DAYLIGHT
TZOFFSETFROM:+0100
TZOFFSETTO:+0200
TZNAME:CEST
DTSTART:20250330T010000
END:DAYLIGHT
BEGIN:STANDARD
TZOFFSETFROM:+0200
TZOFFSETTO:+0100
TZNAME:CET
DTSTART:20251026T010000
END:STANDARD
BEGIN:DAYLIGHT
TZOFFSETFROM:+0100
TZOFFSETTO:+0200
TZNAME:CEST
DTSTART:20260329T010000
END:DAYLIGHT
BEGIN:STANDARD
TZOFFSETFROM:+0200
TZOFFSETTO:+0100
TZNAME:CET
DTSTART:20261025T010000
END:STANDARD
BEGIN:DAYLIGHT
TZOFFSETFROM:+0100
TZOFFSETTO:+0200
TZNAME:CEST
DTSTART:20270328T010000
END:DAYLIGHT
BEGIN:STANDARD
TZOFFSETFROM:+0200
TZOFFSETTO:+0100
TZNAME:CET
DTSTART:20271031T010000
END:STANDARD
END:VTIMEZONE
BEGIN:VEVENT
DTSTART;TZID=Europe/Berlin:20260804T203000
DTEND;TZID=Europe/Berlin:20260804T220000
DTSTAMP:20260421T122142
CREATED:20250806T112522Z
LAST-MODIFIED:20251217T152957Z
UID:11168-1785875400-1785880800@nachtwaechterin.com
SUMMARY:Weißenburg bei Nacht
DESCRIPTION:Mit der Weißenburger Nachtwächterin unterwegs … \n\n\nGeschichte und Geschichten aus Weißenburgs reichsstädtischer Vergangenheit. \nDer Klassiker in Weißenburg!
URL:https://nachtwaechterin.com/termin/weissenburg-bei-nacht-2/
LOCATION:Weißenburg\, Marktplatz\, Weißenburg\, Bayern\, 91781\, Deutschland
CATEGORIES:Nachtwächter Führungen
ATTACH;FMTTYPE=image/jpeg:https://nachtwaechterin.com/wp-content/uploads/2019/04/Nachtwaechterin_WUG_2010_1_mittel-e1639492485736.jpg
ORGANIZER;CN="Dr. Ute J%C3%A4ger":MAILTO:kontakt@nachtwaechterin.de
END:VEVENT
BEGIN:VEVENT
DTSTART;TZID=Europe/Berlin:20260806T203000
DTEND;TZID=Europe/Berlin:20260806T220000
DTSTAMP:20260421T122142
CREATED:20250806T112711Z
LAST-MODIFIED:20251217T153103Z
UID:11170-1786048200-1786053600@nachtwaechterin.com
SUMMARY:Weißenburg bei Nacht
DESCRIPTION:Mit der Weißenburger Nachtwächterin unterwegs … \n\n\nGeschichte und Geschichten aus Weißenburgs reichsstädtischer Vergangenheit. \nDer Klassiker in Weißenburg!
URL:https://nachtwaechterin.com/termin/weissenburg-bei-nacht-3/
LOCATION:Weißenburg\, Marktplatz\, Weißenburg\, Bayern\, 91781\, Deutschland
CATEGORIES:Nachtwächter Führungen
ATTACH;FMTTYPE=image/jpeg:https://nachtwaechterin.com/wp-content/uploads/2019/04/Nachtwaechterin_WUG_2010_1_mittel-e1639492485736.jpg
ORGANIZER;CN="Dr. Ute J%C3%A4ger":MAILTO:kontakt@nachtwaechterin.de
END:VEVENT
BEGIN:VEVENT
DTSTART;TZID=Europe/Berlin:20260807T203000
DTEND;TZID=Europe/Berlin:20260807T220000
DTSTAMP:20260421T122142
CREATED:20260224T165552Z
LAST-MODIFIED:20260224T165552Z
UID:11343-1786134600-1786140000@nachtwaechterin.com
SUMMARY:Nachtwächtertour Nürnberg: Henker und Co.
DESCRIPTION:Folgen Sie der Nachtwächterin\, die Sie in Mantel und Hut\, mit Horn und Wanderstab ausgerüstet durch die spannende Geschichte Nürnbergs leitet. \nDie öffentlichen Führungen wechseln thematisch ab. \nDas Thema heute Abend: „Henker und Co.“ \n… Geschichte lebendig\n… in Form von Geschichten\n… wahrhaftig und lustig\, manchmal auch traurig\,\n… doch immer voll Kurtzweyl und viel Humor! \n>> Tickets \n 
URL:https://nachtwaechterin.com/termin/nachtwaechtertour-nuernberg-henker-und-co-3/
LOCATION:Nürnberg\, Hauptmarkt\, vor der Touristinformation\, Nürnberg\, Bayern\, 90403\, Deutschland
CATEGORIES:Nachtwächter Führungen
ATTACH;FMTTYPE=image/jpeg:https://nachtwaechterin.com/wp-content/uploads/2019/03/2016-Henkersteg_Mond.jpg
ORGANIZER;CN="Dr. Ute J%C3%A4ger":MAILTO:kontakt@nachtwaechterin.de
END:VEVENT
BEGIN:VEVENT
DTSTART;TZID=Europe/Berlin:20260808T203000
DTEND;TZID=Europe/Berlin:20260808T220000
DTSTAMP:20260421T122142
CREATED:20260206T151026Z
LAST-MODIFIED:20260224T165127Z
UID:11306-1786221000-1786226400@nachtwaechterin.com
SUMMARY:Nachtwächtertour "Nürnberger Allerlei"
DESCRIPTION:Folgen Sie der Nachtwächterin\, die Sie in Mantel und Hut\, mit Horn und Wanderstab ausgerüstet durch die spannende Geschichte Nürnbergs leitet. \nAus dem reichen Fundus der Nürnberger Geschichte bietet die Nachtwächterin heute Abend ein buntes Allerlei. \n… Geschichte lebendig\n… in Form von Geschichten\n… wahrhaftig und lustig\, manchmal auch traurig\,\n… doch immer voll Kurtzweyl und viel Humor! \n>> Tickets \n 
URL:https://nachtwaechterin.com/termin/nachtwaechtertour-nuernberger-allerlei-15/
LOCATION:Nürnberg\, Hauptmarkt\, vor der Touristinformation\, Nürnberg\, Bayern\, 90403\, Deutschland
CATEGORIES:Nachtwächter Führungen
ATTACH;FMTTYPE=image/jpeg:https://nachtwaechterin.com/wp-content/uploads/2024/02/20240528_Foto_Jaeger-scaled-e1722265892124.jpg
ORGANIZER;CN="Dr. Ute J%C3%A4ger":MAILTO:kontakt@nachtwaechterin.de
END:VEVENT
BEGIN:VEVENT
DTSTART;TZID=Europe/Berlin:20260811T203000
DTEND;TZID=Europe/Berlin:20260811T220000
DTSTAMP:20260421T122142
CREATED:20250806T112754Z
LAST-MODIFIED:20251217T153243Z
UID:11172-1786480200-1786485600@nachtwaechterin.com
SUMMARY:Weißenburg bei Nacht
DESCRIPTION:Mit der Weißenburger Nachtwächterin unterwegs … \n\n\nGeschichte und Geschichten aus Weißenburgs reichsstädtischer Vergangenheit. \nDer Klassiker in Weißenburg!
URL:https://nachtwaechterin.com/termin/weissenburg-bei-nacht-4/
LOCATION:Weißenburg\, Marktplatz\, Weißenburg\, Bayern\, 91781\, Deutschland
CATEGORIES:Nachtwächter Führungen
ATTACH;FMTTYPE=image/jpeg:https://nachtwaechterin.com/wp-content/uploads/2019/04/Nachtwaechterin_WUG_2010_1_mittel-e1639492485736.jpg
ORGANIZER;CN="Dr. Ute J%C3%A4ger":MAILTO:kontakt@nachtwaechterin.de
END:VEVENT
BEGIN:VEVENT
DTSTART;TZID=Europe/Berlin:20260813T203000
DTEND;TZID=Europe/Berlin:20260813T220000
DTSTAMP:20260421T122142
CREATED:20250806T112843Z
LAST-MODIFIED:20251217T153401Z
UID:11174-1786653000-1786658400@nachtwaechterin.com
SUMMARY:Weißenburg bei Nacht
DESCRIPTION:Mit der Weißenburger Nachtwächterin unterwegs … \n\n\nGeschichte und Geschichten aus Weißenburgs reichsstädtischer Vergangenheit. \nDer Klassiker in Weißenburg!
URL:https://nachtwaechterin.com/termin/weissenburg-bei-nacht-5/
LOCATION:Weißenburg\, Marktplatz\, Weißenburg\, Bayern\, 91781\, Deutschland
CATEGORIES:Nachtwächter Führungen
ATTACH;FMTTYPE=image/jpeg:https://nachtwaechterin.com/wp-content/uploads/2019/04/Nachtwaechterin_WUG_2010_1_mittel-e1639492485736.jpg
ORGANIZER;CN="Dr. Ute J%C3%A4ger":MAILTO:kontakt@nachtwaechterin.de
END:VEVENT
BEGIN:VEVENT
DTSTART;TZID=Europe/Berlin:20260814T203000
DTEND;TZID=Europe/Berlin:20260814T220000
DTSTAMP:20260421T122142
CREATED:20260206T151249Z
LAST-MODIFIED:20260206T151249Z
UID:11310-1786739400-1786744800@nachtwaechterin.com
SUMMARY:Nachtwächtertour Nürnberg
DESCRIPTION:Folgen Sie der Nachtwächterin\, die Sie in Mantel und Hut\, mit Horn und Wanderstab ausgerüstet durch die spannende Geschichte Nürnbergs leitet. \nDie öffentlichen Führungen wechseln thematisch ab. \nDas Thema heute Abend steht noch nicht fest. Haben Sie einen bestimmten Themenwunsch? Dann rufen Sie an (09141 997 207) oder schreiben eine E-Mail! Ihr Wunschthema kann zwar nicht garantiert werden\, aber nach Möglichkeit gehen wir gerne darauf ein. \n… Geschichte lebendig\n… in Form von Geschichten\n… wahrhaftig und lustig\, manchmal auch traurig\,\n… doch immer voll Kurtzweyl und viel Humor! \n>> Tickets \n 
URL:https://nachtwaechterin.com/termin/nachtwaechtertour-nuernberg-14/
LOCATION:Nürnberg\, Hauptmarkt\, vor der Touristinformation\, Nürnberg\, Bayern\, 90403\, Deutschland
CATEGORIES:Nachtwächter Führungen
ATTACH;FMTTYPE=image/jpeg:https://nachtwaechterin.com/wp-content/uploads/2024/02/20240528_Foto_Jaeger-scaled-e1722265892124.jpg
ORGANIZER;CN="Dr. Ute J%C3%A4ger":MAILTO:kontakt@nachtwaechterin.de
END:VEVENT
BEGIN:VEVENT
DTSTART;TZID=Europe/Berlin:20260815T203000
DTEND;TZID=Europe/Berlin:20260815T220000
DTSTAMP:20260421T122142
CREATED:20260206T151439Z
LAST-MODIFIED:20260206T151439Z
UID:11314-1786825800-1786831200@nachtwaechterin.com
SUMMARY:Nachtwächtertour "Nürnberger Allerlei"
DESCRIPTION:Folgen Sie der Nachtwächterin\, die Sie in Mantel und Hut\, mit Horn und Wanderstab ausgerüstet durch die spannende Geschichte Nürnbergs leitet. \nAus dem reichen Fundus der Nürnberger Geschichte bietet die Nachtwächterin heute Abend ein buntes Allerlei. \n… Geschichte lebendig\n… in Form von Geschichten\n… wahrhaftig und lustig\, manchmal auch traurig\,\n… doch immer voll Kurtzweyl und viel Humor! \n>> Tickets \n 
URL:https://nachtwaechterin.com/termin/nachtwaechtertour-nuernberger-allerlei-16/
LOCATION:Nürnberg\, Hauptmarkt\, vor der Touristinformation\, Nürnberg\, Bayern\, 90403\, Deutschland
CATEGORIES:Nachtwächter Führungen
ATTACH;FMTTYPE=image/jpeg:https://nachtwaechterin.com/wp-content/uploads/2024/02/20240528_Foto_Jaeger-scaled-e1722265892124.jpg
ORGANIZER;CN="Dr. Ute J%C3%A4ger":MAILTO:kontakt@nachtwaechterin.de
END:VEVENT
BEGIN:VEVENT
DTSTART;TZID=Europe/Berlin:20260818T203000
DTEND;TZID=Europe/Berlin:20260818T220000
DTSTAMP:20260421T122142
CREATED:20251217T153526Z
LAST-MODIFIED:20251217T153526Z
UID:11247-1787085000-1787090400@nachtwaechterin.com
SUMMARY:Weißenburg bei Nacht
DESCRIPTION:Mit der Weißenburger Nachtwächterin unterwegs … \n\n\nGeschichte und Geschichten aus Weißenburgs reichsstädtischer Vergangenheit. \nDer Klassiker in Weißenburg!
URL:https://nachtwaechterin.com/termin/weissenburg-bei-nacht/
LOCATION:Weißenburg\, Marktplatz\, Weißenburg\, Bayern\, 91781\, Deutschland
CATEGORIES:Nachtwächter Führungen
ATTACH;FMTTYPE=image/jpeg:https://nachtwaechterin.com/wp-content/uploads/2019/04/Nachtwaechterin_WUG_2010_1_mittel-e1639492485736.jpg
ORGANIZER;CN="Dr. Ute J%C3%A4ger":MAILTO:kontakt@nachtwaechterin.de
END:VEVENT
BEGIN:VEVENT
DTSTART;TZID=Europe/Berlin:20260820T203000
DTEND;TZID=Europe/Berlin:20260820T220000
DTSTAMP:20260421T122142
CREATED:20251217T153555Z
LAST-MODIFIED:20251217T153555Z
UID:11249-1787257800-1787263200@nachtwaechterin.com
SUMMARY:Weißenburg bei Nacht
DESCRIPTION:Mit der Weißenburger Nachtwächterin unterwegs … \n\n\nGeschichte und Geschichten aus Weißenburgs reichsstädtischer Vergangenheit. \nDer Klassiker in Weißenburg!
URL:https://nachtwaechterin.com/termin/weissenburg-bei-nacht-6/
LOCATION:Weißenburg\, Marktplatz\, Weißenburg\, Bayern\, 91781\, Deutschland
CATEGORIES:Nachtwächter Führungen
ATTACH;FMTTYPE=image/jpeg:https://nachtwaechterin.com/wp-content/uploads/2019/04/Nachtwaechterin_WUG_2010_1_mittel-e1639492485736.jpg
ORGANIZER;CN="Dr. Ute J%C3%A4ger":MAILTO:kontakt@nachtwaechterin.de
END:VEVENT
BEGIN:VEVENT
DTSTART;TZID=Europe/Berlin:20260821T203000
DTEND;TZID=Europe/Berlin:20260821T220000
DTSTAMP:20260421T122142
CREATED:20260206T151547Z
LAST-MODIFIED:20260206T151547Z
UID:11316-1787344200-1787349600@nachtwaechterin.com
SUMMARY:Nachtwächtertour "Nürnberger Allerlei"
DESCRIPTION:Folgen Sie der Nachtwächterin\, die Sie in Mantel und Hut\, mit Horn und Wanderstab ausgerüstet durch die spannende Geschichte Nürnbergs leitet. \nAus dem reichen Fundus der Nürnberger Geschichte bietet die Nachtwächterin heute Abend ein buntes Allerlei. \n… Geschichte lebendig\n… in Form von Geschichten\n… wahrhaftig und lustig\, manchmal auch traurig\,\n… doch immer voll Kurtzweyl und viel Humor! \n>> Tickets \n 
URL:https://nachtwaechterin.com/termin/nachtwaechtertour-nuernberger-allerlei-17/
LOCATION:Nürnberg\, Hauptmarkt\, vor der Touristinformation\, Nürnberg\, Bayern\, 90403\, Deutschland
CATEGORIES:Nachtwächter Führungen
ATTACH;FMTTYPE=image/jpeg:https://nachtwaechterin.com/wp-content/uploads/2024/02/20240528_Foto_Jaeger-scaled-e1722265892124.jpg
ORGANIZER;CN="Dr. Ute J%C3%A4ger":MAILTO:kontakt@nachtwaechterin.de
END:VEVENT
BEGIN:VEVENT
DTSTART;TZID=Europe/Berlin:20260822T203000
DTEND;TZID=Europe/Berlin:20260822T220000
DTSTAMP:20260421T122142
CREATED:20260206T151332Z
LAST-MODIFIED:20260206T151332Z
UID:11312-1787430600-1787436000@nachtwaechterin.com
SUMMARY:Nachtwächtertour Nürnberg
DESCRIPTION:Folgen Sie der Nachtwächterin\, die Sie in Mantel und Hut\, mit Horn und Wanderstab ausgerüstet durch die spannende Geschichte Nürnbergs leitet. \nDie öffentlichen Führungen wechseln thematisch ab. \nDas Thema heute Abend steht noch nicht fest. Haben Sie einen bestimmten Themenwunsch? Dann rufen Sie an (09141 997 207) oder schreiben eine E-Mail! Ihr Wunschthema kann zwar nicht garantiert werden\, aber nach Möglichkeit gehen wir gerne darauf ein. \n… Geschichte lebendig\n… in Form von Geschichten\n… wahrhaftig und lustig\, manchmal auch traurig\,\n… doch immer voll Kurtzweyl und viel Humor! \n>> Tickets \n 
URL:https://nachtwaechterin.com/termin/nachtwaechtertour-nuernberg-15/
LOCATION:Nürnberg\, Hauptmarkt\, vor der Touristinformation\, Nürnberg\, Bayern\, 90403\, Deutschland
CATEGORIES:Nachtwächter Führungen
ATTACH;FMTTYPE=image/jpeg:https://nachtwaechterin.com/wp-content/uploads/2024/02/20240528_Foto_Jaeger-scaled-e1722265892124.jpg
ORGANIZER;CN="Dr. Ute J%C3%A4ger":MAILTO:kontakt@nachtwaechterin.de
END:VEVENT
BEGIN:VEVENT
DTSTART;TZID=Europe/Berlin:20260825T203000
DTEND;TZID=Europe/Berlin:20260825T220000
DTSTAMP:20260421T122142
CREATED:20251217T153657Z
LAST-MODIFIED:20251217T153657Z
UID:11251-1787689800-1787695200@nachtwaechterin.com
SUMMARY:Weißenburg bei Nacht
DESCRIPTION:Mit der Weißenburger Nachtwächterin unterwegs … \n\n\nGeschichte und Geschichten aus Weißenburgs reichsstädtischer Vergangenheit. \nDer Klassiker in Weißenburg!
URL:https://nachtwaechterin.com/termin/weissenburg-bei-nacht-7/
LOCATION:Weißenburg\, Marktplatz\, Weißenburg\, Bayern\, 91781\, Deutschland
CATEGORIES:Nachtwächter Führungen
ATTACH;FMTTYPE=image/jpeg:https://nachtwaechterin.com/wp-content/uploads/2019/04/Nachtwaechterin_WUG_2010_1_mittel-e1639492485736.jpg
ORGANIZER;CN="Dr. Ute J%C3%A4ger":MAILTO:kontakt@nachtwaechterin.de
END:VEVENT
BEGIN:VEVENT
DTSTART;TZID=Europe/Berlin:20260827T203000
DTEND;TZID=Europe/Berlin:20260827T220000
DTSTAMP:20260421T122142
CREATED:20251217T153737Z
LAST-MODIFIED:20251217T153737Z
UID:11253-1787862600-1787868000@nachtwaechterin.com
SUMMARY:Weißenburg bei Nacht
DESCRIPTION:Mit der Weißenburger Nachtwächterin unterwegs … \n\n\nGeschichte und Geschichten aus Weißenburgs reichsstädtischer Vergangenheit. \nDer Klassiker in Weißenburg!
URL:https://nachtwaechterin.com/termin/weissenburg-bei-nacht-8/
LOCATION:Weißenburg\, Marktplatz\, Weißenburg\, Bayern\, 91781\, Deutschland
CATEGORIES:Nachtwächter Führungen
ATTACH;FMTTYPE=image/jpeg:https://nachtwaechterin.com/wp-content/uploads/2019/04/Nachtwaechterin_WUG_2010_1_mittel-e1639492485736.jpg
ORGANIZER;CN="Dr. Ute J%C3%A4ger":MAILTO:kontakt@nachtwaechterin.de
END:VEVENT
BEGIN:VEVENT
DTSTART;TZID=Europe/Berlin:20260828T203000
DTEND;TZID=Europe/Berlin:20260828T220000
DTSTAMP:20260421T122142
CREATED:20260206T152023Z
LAST-MODIFIED:20260206T152023Z
UID:11323-1787949000-1787954400@nachtwaechterin.com
SUMMARY:Nachtwächtertour "Nürnberger Allerlei"
DESCRIPTION:Folgen Sie der Nachtwächterin\, die Sie in Mantel und Hut\, mit Horn und Wanderstab ausgerüstet durch die spannende Geschichte Nürnbergs leitet. \nAus dem reichen Fundus der Nürnberger Geschichte bietet die Nachtwächterin heute Abend ein buntes Allerlei. \n… Geschichte lebendig\n… in Form von Geschichten\n… wahrhaftig und lustig\, manchmal auch traurig\,\n… doch immer voll Kurtzweyl und viel Humor! \n>> Tickets \n 
URL:https://nachtwaechterin.com/termin/nachtwaechtertour-nuernberger-allerlei-18/
LOCATION:Nürnberg\, Hauptmarkt\, vor der Touristinformation\, Nürnberg\, Bayern\, 90403\, Deutschland
CATEGORIES:Nachtwächter Führungen
ATTACH;FMTTYPE=image/jpeg:https://nachtwaechterin.com/wp-content/uploads/2024/02/20240528_Foto_Jaeger-scaled-e1722265892124.jpg
ORGANIZER;CN="Dr. Ute J%C3%A4ger":MAILTO:kontakt@nachtwaechterin.de
END:VEVENT
BEGIN:VEVENT
DTSTART;TZID=Europe/Berlin:20260829T203000
DTEND;TZID=Europe/Berlin:20260829T220000
DTSTAMP:20260421T122142
CREATED:20260206T151757Z
LAST-MODIFIED:20260206T151757Z
UID:11318-1788035400-1788040800@nachtwaechterin.com
SUMMARY:Nachtwächtertour Nürnberg
DESCRIPTION:Folgen Sie der Nachtwächterin\, die Sie in Mantel und Hut\, mit Horn und Wanderstab ausgerüstet durch die spannende Geschichte Nürnbergs leitet. \nDie öffentlichen Führungen wechseln thematisch ab. \nDas Thema heute Abend steht noch nicht fest. Haben Sie einen bestimmten Themenwunsch? Dann rufen Sie an (09141 997 207) oder schreiben eine E-Mail! Ihr Wunschthema kann zwar nicht garantiert werden\, aber nach Möglichkeit gehen wir gerne darauf ein. \n… Geschichte lebendig\n… in Form von Geschichten\n… wahrhaftig und lustig\, manchmal auch traurig\,\n… doch immer voll Kurtzweyl und viel Humor! \n>> Tickets \n 
URL:https://nachtwaechterin.com/termin/nachtwaechtertour-nuernberg-16/
LOCATION:Nürnberg\, Hauptmarkt\, vor der Touristinformation\, Nürnberg\, Bayern\, 90403\, Deutschland
CATEGORIES:Nachtwächter Führungen
ATTACH;FMTTYPE=image/jpeg:https://nachtwaechterin.com/wp-content/uploads/2024/02/20240528_Foto_Jaeger-scaled-e1722265892124.jpg
ORGANIZER;CN="Dr. Ute J%C3%A4ger":MAILTO:kontakt@nachtwaechterin.de
END:VEVENT
END:VCALENDAR